BEGIN:VCALENDAR
VERSION:2.0
PRODID:-//Campolo Center - ECPv6.15.13.1//NONSGML v1.0//EN
CALSCALE:GREGORIAN
METHOD:PUBLISH
X-WR-CALNAME:Campolo Center
X-ORIGINAL-URL:https://www.campolocenter.org
X-WR-CALDESC:Events for Campolo Center
REFRESH-INTERVAL;VALUE=DURATION:PT1H
X-Robots-Tag:noindex
X-PUBLISHED-TTL:PT1H
BEGIN:VTIMEZONE
TZID:America/New_York
BEGIN:DAYLIGHT
TZOFFSETFROM:-0500
TZOFFSETTO:-0400
TZNAME:EDT
DTSTART:20190310T070000
END:DAYLIGHT
BEGIN:STANDARD
TZOFFSETFROM:-0400
TZOFFSETTO:-0500
TZNAME:EST
DTSTART:20191103T060000
END:STANDARD
BEGIN:DAYLIGHT
TZOFFSETFROM:-0500
TZOFFSETTO:-0400
TZNAME:EDT
DTSTART:20200308T070000
END:DAYLIGHT
BEGIN:STANDARD
TZOFFSETFROM:-0400
TZOFFSETTO:-0500
TZNAME:EST
DTSTART:20201101T060000
END:STANDARD
BEGIN:DAYLIGHT
TZOFFSETFROM:-0500
TZOFFSETTO:-0400
TZNAME:EDT
DTSTART:20210314T070000
END:DAYLIGHT
BEGIN:STANDARD
TZOFFSETFROM:-0400
TZOFFSETTO:-0500
TZNAME:EST
DTSTART:20211107T060000
END:STANDARD
END:VTIMEZONE
BEGIN:VEVENT
DTSTART;TZID=America/New_York:20200921T100000
DTEND;TZID=America/New_York:20200921T110000
DTSTAMP:20260419T184308
CREATED:20200911T174029Z
LAST-MODIFIED:20200917T142953Z
UID:3206-1600682400-1600686000@www.campolocenter.org
SUMMARY:Campolo Scholars Fellowship with Rev. Dr. Bishop Donald Hilliard Jr.
DESCRIPTION:Rev. Dr. Bishop Donald Hilliard Jr. meets with the Campolo scholars for their weekly Monday Meetings. \nEastern University has a long history of developing Christian faith- and thought-leaders (e.g. Tony Campolo\, Brenda Salter McNeil\, Shane Claiborne\, Bryan Stevenson\, just to name a few) who are impacting the world with the Good News of the Whole Gospel.  When Tony talks about former students of his who spent their formative college years studying and preparing for ministry at Eastern University and are now setting an example of Christian leadership\, he always includes Dr. Bishop Don Hilliard at the top of the list. \nDr. Hilliard will flesh out some of the ideas he introduced at Eastern’s chapel service on September 9th (e.g. crossing over\, creativity\, changing the narrative) and other practical insights he’s learned for effective\, transformative ministry in the 21st Century and particularly the current American context of covid\, reanimated and emboldened racism and white supremacy\, growing economic divide and despair\, Biblical and theological illiteracy\, etc.   \n\nWhat is the role of the church in such a time\, under such circumstances?\nWhat are some successes that have been implemented at Cathedral International?\nWhat are some lessons learned from a failure\, set back or challenge?\nHow did his experience at Eastern shape and prepare him for prophetic leadership?\nDid studying sociology with Tony provide the insight and tools for analyzing and engaging culture more effectively for ministry?\nDoes he have courses/disciplines of study\, books and other resources to recommend to students preparing for ministry?\n\nBiography \nBishop Donald Hilliard\, Jr. serves as the senior pastor of Cathedral International—The Historic Second Baptist Church in Perth Amboy\, NJ. Dr. Hilliard’s willingness to “Say Yes!” to the Lord has fostered his ability to provide leadership in the exponential growth of the church over the last 35 years. Now\, “One Church in Four Locations\,” Cathedral International has expanded its ministry to serve the specific needs of four different locations in New Jersey: Cathedral International in Perth Amboy\, Cathedral International in Asbury Park\, Cathedral International in Plainfield\, and Iglesia Catedral in Perth Amboy. Cited by the American Baptist Churches (USA) as a model for church growth\, Cathedral International is a multifaceted\, relevant church that has grown exponentially throughout the years. Through the facilitation of the gospel via Live Stream\, Cathedral International now reaches thousands of homes across the globe. In the near future\, Cathedral International anticipates building a new campus in Cranbury\, NJ on 98 acres of land…
URL:https://www.campolocenter.org/event/rev-dr-bishop-donald-hilliard-jr/
CATEGORIES:Campolo Center Events
ATTACH;FMTTYPE=image/jpeg:https://www.campolocenter.org/wp-content/uploads/2020/09/340033_gfXzHXnd-2-e1599846507770.jpg
END:VEVENT
END:VCALENDAR