BEGIN:VCALENDAR
VERSION:2.0
PRODID:-//Campolo Center - ECPv6.15.13.1//NONSGML v1.0//EN
CALSCALE:GREGORIAN
METHOD:PUBLISH
X-WR-CALNAME:Campolo Center
X-ORIGINAL-URL:https://www.campolocenter.org
X-WR-CALDESC:Events for Campolo Center
REFRESH-INTERVAL;VALUE=DURATION:PT1H
X-Robots-Tag:noindex
X-PUBLISHED-TTL:PT1H
BEGIN:VTIMEZONE
TZID:UTC
BEGIN:STANDARD
TZOFFSETFROM:+0000
TZOFFSETTO:+0000
TZNAME:UTC
DTSTART:20150101T000000
END:STANDARD
END:VTIMEZONE
BEGIN:VEVENT
DTSTART;TZID=UTC:20161021T100000
DTEND;TZID=UTC:20161021T113000
DTSTAMP:20260420T070740
CREATED:20190821T092536Z
LAST-MODIFIED:20190821T114738Z
UID:2463-1477044000-1477049400@www.campolocenter.org
SUMMARY:Campolo Fellows Speaker Series: Kent Annan
DESCRIPTION:The goal of Campolo Center is to invest time and resources in gifted and promising students who have made a commitment to serve the Church and the world through full-time vocational ministry. With your help\, we can provide the Campolo Scholars with supplemental curriculum and practical experiences that will enrich and shape their lives and faith while living in Christian community at Eastern. \nFor example\, each Monday we gather for fellowship\, prayer and to discuss a ministry-focused book together. This semester we’re reading Kent Annan’s insightful book\, Slow Kingdom Coming: Practices for Doing Justice\, Loving Mercy and Walking Humbly in the World\, and look forward to concluding our study of it with Kent when he joins us as our Campolo Fellow Speaker on October 21. \nMoreover\, out of our commitment to support the Campolo Scholars’ spiritual formation\, the Campolo Center sponsored their attendance at Renovare’s Making Ordinary Saints Conference at the Church of the Good Samaritan\, a vibrant community of faith with strong ties to Eastern. \nYour gift designated for Tony’s Team at the Campolo Center makes it possible for us to provide practical and substantive resources and opportunities for the Campolo Scholars that prepare them for a life of faithful and effective ministry. \n*** \nCampolo Fellows Speakers Series (Kent Annan: Co-founder and director of Haiti Partners\, author of Following Jesus Through the Eye of a Needle\, After Shock\, and Slow Kingdom Coming) \n10 AM Presentation (public) \n11:30 AM Lunch and Q & A (public) \n4-7 PM Life in Ministry Discussion and Dinner (Campolo Scholars and Special Guests)
URL:https://www.campolocenter.org/event/campolo-fellows-speaker-series-kent-annan/
LOCATION:PA
CATEGORIES:Campolo Center Events,Campolo Fellows Speaker Series
ATTACH;FMTTYPE=image/jpeg:https://www.campolocenter.org/wp-content/uploads/2019/08/Untitled-1.jpg
END:VEVENT
BEGIN:VEVENT
DTSTART;TZID=UTC:20161004T170000
DTEND;TZID=UTC:20161004T190000
DTSTAMP:20260420T070740
CREATED:20190821T090848Z
LAST-MODIFIED:20190821T114336Z
UID:2446-1475600400-1475607600@www.campolocenter.org
SUMMARY:Dinner with Tony and the Campolo Scholars
DESCRIPTION:
URL:https://www.campolocenter.org/event/dinner-with-tony-and-the-campolo-scholars/
LOCATION:PA
CATEGORIES:Campolo Center Events
ATTACH;FMTTYPE=image/jpeg:https://www.campolocenter.org/wp-content/uploads/2019/08/CCM-Event-2-9167.jpg
END:VEVENT
BEGIN:VEVENT
DTSTART;TZID=UTC:20160930T100000
DTEND;TZID=UTC:20160930T113000
DTSTAMP:20260420T070740
CREATED:20190821T085543Z
LAST-MODIFIED:20190821T100916Z
UID:2443-1475229600-1475235000@www.campolocenter.org
SUMMARY:Campolo Fellows Speaker Series: Aisha Brooks-Lytle
DESCRIPTION:Rev. Aisha Brooks-Lytle: Minister of Missions\, Wayne Presbyterian Church; Co-founder and organizing pastor\, The Common Place; Advisory Committee Member\, Campolo Center \n10 AM Presentation (public) \n11:30 AM Lunch and Q & A (public) \n4-7 PM Life in Ministry Discussion and Dinner (Campolo Scholars and Special Guests)
URL:https://www.campolocenter.org/event/campolo-fellows-speaker-series-aisha-brooks-lytle/
LOCATION:PA
CATEGORIES:Campolo Center Events,Campolo Fellows Speaker Series
ATTACH;FMTTYPE=image/jpeg:https://www.campolocenter.org/wp-content/uploads/2019/08/aisha.jpg
END:VEVENT
END:VCALENDAR