BEGIN:VCALENDAR
VERSION:2.0
PRODID:-//Campolo Center - ECPv6.15.13.1//NONSGML v1.0//EN
CALSCALE:GREGORIAN
METHOD:PUBLISH
X-WR-CALNAME:Campolo Center
X-ORIGINAL-URL:https://www.campolocenter.org
X-WR-CALDESC:Events for Campolo Center
REFRESH-INTERVAL;VALUE=DURATION:PT1H
X-Robots-Tag:noindex
X-PUBLISHED-TTL:PT1H
BEGIN:VTIMEZONE
TZID:UTC
BEGIN:STANDARD
TZOFFSETFROM:+0000
TZOFFSETTO:+0000
TZNAME:UTC
DTSTART:20180101T000000
END:STANDARD
END:VTIMEZONE
BEGIN:VTIMEZONE
TZID:UTC
BEGIN:STANDARD
TZOFFSETFROM:+0000
TZOFFSETTO:+0000
TZNAME:UTC
DTSTART:20180101T000000
END:STANDARD
END:VTIMEZONE
BEGIN:VEVENT
DTSTART;TZID=UTC:20190804T103000
DTEND;TZID=UTC:20190804T200000
DTSTAMP:20260419T150524
CREATED:20190821T113214Z
LAST-MODIFIED:20190821T113214Z
UID:2527-1564914600-1564948800@www.campolocenter.org
SUMMARY:The Maine Event: Sunday\, August 4\, 2019
DESCRIPTION:Greetings on behalf of Tony and Peggy Campolo and all of us at the Campolo Center\, Eastern University and Palmer Theological Seminary. \nTONY AT OCEAN PARK TEMPLE\n10:30-11:30 AM\n \nDr. Tony Campolo (’56\, BD ’60\, ThM ’61)\, will preach at the Ocean Park Association Temple on Sunday\, August 4\, 2019 at the 10:30 AM service. We hope to see you there too! \nOcean Park Association Temple \n50 Temple Ave \nOld Orchard Beach\, ME 04063 \n  \nPOTLUCK DINNER WITH TONY AND PEGGY CAMPOLO\n5-8 PM \nLast summer\, friends and Eastern alum Lorna (’64) and Rob Hansen hosted an impromptu dinner at their home for Eastern alums and friends of the Campolo Center. We’ll gather again this summer in the Hansen’s beautiful barn for a potluck and lobster* dinner. This year Tony and Peggy can join us. We hope you’ll join us too! \nWHEN\nSunday\, August 4th at 5-8 PM \nWHERE\nPrivate Residence in Auburn\, ME\n(Inquire or RSVP for more details.) \nWHAT TO BRING\nEntree\, side dish\, or dessert and beverage to share. \nPLEASE NOTE\n*Optional. Cost of a soft shell lobster bake (whole lobster\, clams\, potato\, and ear of corn) is $16.00/person. \nRSVP\nSpace is limited. Please email me at rgauthier@eastern.edu or call me on my cell at 610-757-5762 to RSVP by Thursday\, August 1st so that we can plan accordingly and order lobster meals. \nWe hope you will join us for worship in the morning and food\, fellowship and stories in the evening. Please don’t hesitate to contact me with any questions. \nThank you and blessings\, \n\nRobert Gauthier\, MS ’08\nExecutive Director\nCampolo Center for Ministry
URL:https://www.campolocenter.org/event/the-maine-event-sunday-august-4-2019/
LOCATION:Ocean Park Association Temple\, 50 Temple Ave\, Old Orchard Beach\, NM\, 04063\, United States
CATEGORIES:Campolo Center Events
ATTACH;FMTTYPE=image/jpeg:https://www.campolocenter.org/wp-content/uploads/2019/07/IMG_26981-copy-cropped.jpg
END:VEVENT
BEGIN:VEVENT
DTSTART;TZID=UTC:20190825T130000
DTEND;TZID=UTC:20190825T150000
DTSTAMP:20260419T150524
CREATED:20190821T113524Z
LAST-MODIFIED:20191120T041454Z
UID:2530-1566738000-1566745200@www.campolocenter.org
SUMMARY:SUNDAY LUNCHEON BY THE SEA!
DESCRIPTION:Greetings from Eastern University’s Campolo Center for Ministry! We are thrilled that Dr. Tony Campolo (’56\, BD ’60\, ThM ’61) will preach\, and Dr. Ron Matthews will provide special music\, at the 8:30 am and 10:30 am services on Sunday\, August 25th\, 2019 at the Ocean City Tabernacle. We hope to see you there! \nFollowing the worship services\, there will be a private luncheon at 1 PM with the Campolos and Matthews and we would love for you to join us for this special time of fellowship and great food. \nWHEN\nSunday\, August 25th at 1-3 PM \nWHERE\nOcean City Tabernacle Narthex\n550 Wesley Avenue\nOcean City\, NJ 08226 \nMENU\nAntipasto\, Beef Au Jus\, Roasted Chicken\, Smoked Salmon\, Pasta\, Potato Salad\,\nGreen Beans Almondine\, Toasted Kale Salad\, Roasted Eggplant\,\nGarden Salad\, Assorted Beverages\, Dessert and Coffee/Tea \n(Catering by Camille LeClaire and Born to Serve Catering Company. Camille committed her life to Christ after hearing Tony preach at the Tabernacle decades ago. And Tony was the inspiration behind Camille launching Born to Serve as food service and job training ministry.) \nRSVP AND REGISTRATION\nSpace is limited. Registration is required. The cost for this catered event is $20 per person.\nRegistration will close on Wednesday\, August 21st.  \nREGISTER ONLINE: HERE \nSPONSORED BY\nEastern University’s Campolo Center for Ministry\nand Office of Alumni Relations. \nWe hope you will join us for worship and lunch. Please don’t hesitate to contact me with any questions at 610-757-5762 or rgauthier [at] eastern [dot] com. \nThank you and blessings\, \n \nRobert Gauthier\, MS ’08\nExecutive Director\nCampolo Center for Ministry
URL:https://www.campolocenter.org/event/sunday-luncheon-by-the-sea/
CATEGORIES:Campolo Center Events
ATTACH;FMTTYPE=image/png:https://www.campolocenter.org/wp-content/uploads/2019/08/Final-OCNJ-Luncheon-8-25-19.png
END:VEVENT
END:VCALENDAR