BEGIN:VCALENDAR
VERSION:2.0
PRODID:-//Campolo Center - ECPv6.15.13.1//NONSGML v1.0//EN
CALSCALE:GREGORIAN
METHOD:PUBLISH
X-WR-CALNAME:Campolo Center
X-ORIGINAL-URL:https://www.campolocenter.org
X-WR-CALDESC:Events for Campolo Center
REFRESH-INTERVAL;VALUE=DURATION:PT1H
X-Robots-Tag:noindex
X-PUBLISHED-TTL:PT1H
BEGIN:VTIMEZONE
TZID:America/New_York
BEGIN:DAYLIGHT
TZOFFSETFROM:-0500
TZOFFSETTO:-0400
TZNAME:EDT
DTSTART:20190310T070000
END:DAYLIGHT
BEGIN:STANDARD
TZOFFSETFROM:-0400
TZOFFSETTO:-0500
TZNAME:EST
DTSTART:20191103T060000
END:STANDARD
BEGIN:DAYLIGHT
TZOFFSETFROM:-0500
TZOFFSETTO:-0400
TZNAME:EDT
DTSTART:20200308T070000
END:DAYLIGHT
BEGIN:STANDARD
TZOFFSETFROM:-0400
TZOFFSETTO:-0500
TZNAME:EST
DTSTART:20201101T060000
END:STANDARD
BEGIN:DAYLIGHT
TZOFFSETFROM:-0500
TZOFFSETTO:-0400
TZNAME:EDT
DTSTART:20210314T070000
END:DAYLIGHT
BEGIN:STANDARD
TZOFFSETFROM:-0400
TZOFFSETTO:-0500
TZNAME:EST
DTSTART:20211107T060000
END:STANDARD
END:VTIMEZONE
BEGIN:VEVENT
DTSTART;VALUE=DATE:20200909
DTEND;VALUE=DATE:20200910
DTSTAMP:20260419T173134
CREATED:20200909T135117Z
LAST-MODIFIED:20200909T185810Z
UID:3193-1599609600-1599695999@www.campolocenter.org
SUMMARY:Campolo Fellows Lecture Series: Chapel with Eastern Alum\, Dr. Bishop Donald Hilliard\, Jr.
DESCRIPTION:Eastern University has a long history of developing Christian faith- and thought-leaders (e.g. Tony Campolo\, Brenda Salter McNeil\, Shane Claiborne\, Bryan Stevenson\, just to name a few) who are impacting the world with the Good News of the Whole Gospel.  When Tony talks about former students of his who spent their formative college years studying and preparing for ministry at Eastern University and are now setting an example of Christian leadership\, he always includes Dr. Bishop Don Hilliard at the top of the list. \n\nWhen we launched the Campolo Fellows Lecture Series\, made possible by a generous grant from the Baugh Family Foundation\, Tony encouraged us to invite Dr. Hilliard back to his alma mater so he could challenge and inspire the Campolo Scholars and the larger Eastern Community.  We’re honored to have Dr. Hilliard preach in our chapel service this morning and look forward to him mentoring\, teaching and encouraging the Campolo Scholars throughout the semester. \n\nBishop Donald Hilliard\, Jr. serves as the senior pastor of Cathedral International—The Historic Second Baptist Church in Perth Amboy\, NJ. Dr. Hilliard’s willingness to “Say Yes!” to the Lord has fostered his ability to provide leadership in the exponential growth of the church over the last 35 years. Now\, “One Church in Four Locations\,” Cathedral International has expanded its ministry to serve the specific needs of four different locations in New Jersey: Cathedral International in Perth Amboy\, Cathedral International in Asbury Park\, Cathedral International in Plainfield\, and Iglesia Catedral in Perth Amboy. Cited by the American Baptist Churches (USA) as a model for church growth\, Cathedral International is a multifaceted\, relevant church that has grown exponentially throughout the years. Through the facilitation of the gospel via Live Stream\, Cathedral International now reaches thousands of homes across the globe. In the near future\, Cathedral International anticipates building a new campus in Cranbury\, NJ on 98 acres of land. \nDr. Hilliard’s transformational mindset is reflected in the numerous community development initiatives established under his leadership. He is the Founder and CEO of the Cathedral Community Development Corporation (CCDC)\, an umbrella organization providing a variety of outreach services to the local community. The “Cathedral Community Counseling Center”\, a professional clinical counseling center\, provides mental health support for both the church and the community. These services are provided by Masters and Doctoral level therapists. The “Cathedral Family Life Center” houses a banquet center\, library and a creative dance center and Sunday School. Cathedral International has been cited by the city and the state as a major catalyst for the renewal and development of the City of Perth Amboy. \nDr. Hilliard is the author of 14 books on a variety of relevant topics. His most recent books\, “Midlife\, Manhood\, & Ministry\,” was released April 2013 and “55 and Counting\,” was released in November 2013. To purchase additional books log on to amazon.com or donaldhilliardjr.org. \nA 2002 and 2013 Hampton Ministers Conference speaker\, Bishop Hilliard has ministered at various churches\, conferences\, and conventions across the United States and internationally. Vision Casting\, birthed out of Bishop Hilliard’s call to serve visionaries and dreamers\, is a motivational-action company formed to encourage Executive leadership to pursue life with also a power motivational speaker\, and a disciplined mindset for success. \nIn 2006 after a life-threatening illness\, Dr. Hilliard reinvented himself again by resurrecting his gift of painting by creating original pieces of art through his abstract expressionistic company\, Pulpit to the Palate Art.  His premier collections of over 70 original pieces include the recently exhibited “Let Go\, Let Gesture: Abstract Ascension” series at the Dragonfly Fine Arts Gallery in Martha’s Vineyard as well as “Divine Liturgy in Abstract” and “From the Pulpit to the Palate” series. His paintings grab your attention with brilliant use of color and shapes with the purpose of speaking to your mind and soul while creating rare moments of introspection.  To purchase artwork please log on to donaldhilliardjr.org. \nDr. Hilliard’s creativity does not stop with his gift of painting\, but extends into the theatrical arts arena. In April 2013\, Dr. Hilliard’s first theatrical production\, “Stop the Funeral” debuted at the Union County Performing Arts Center in Rahway\, NJ to a sold-out crowd featuring Marvin Sapp. “Stop the Funeral” was written in an attempt to create a sense of urgency of what we must do to change the mindset of the often misguided\, misunderstood and sometimes forgotten youth\, and has gained momentum as a movement to end senseless violence in our streets.  In 2018\, Bishop Hilliard partnered with The Zakee Bowser Enrichment Foundation presented a “Stop The Funeral” event to show awareness of the violence in our communities through spoken word\, live hip hop\, choirs\, steel band\, steppers\, mime and dancers.  \nOrdained into the Gospel ministry by the Progressive National Baptist Convention\, Inc. in 1978 and consecrated a Bishop under the hand of Bishop John R. Bryant in 1995\, Bishop Donald Hilliard\, Jr. is the Presiding Prelate Emeritus and founder of the Covenant Ecumenical Fellowship and Cathedral Assemblies (CEFCA)\, now known as Covenant Fellowship Alliance (CFA). He continues to serve as Father and Influencer to countless sons and daughters across the nation.\n \nPassionate about education\, Dr. Hilliard is the former Pastor – Scholar in Residence at Palmer Theological Seminary\, as well as a former member of the Board of Directors at Somerset Christian College\, Somerset\, NJ. He is the former Group Convener and Mentor of the Donald Hilliard Fellows Doctor of Ministry Program and visiting professor of Church Renewal at Drew University Theological School in Madison\, NJ. In December 2012\, Dr. Hilliard partnered again with Drew University Theological School as an Affiliate Associate Professor with the establishment of the Hilliard/Sweet Concentration as part of the Doctor of Ministry Program. Most recently\, he was named the Distinguished Practitioner in Residence at the New Brunswick Theological Seminary to assist in the development of clergy care groups and teaching in the consecration in urban ministry. \nDr. Hilliard earned a Bachelor of Arts degree from Eastern College (now Eastern University)\, St. David’s\, Pennsylvania\, the Master of Divinity degree from Princeton Theological Seminary\, Princeton\, NJ\, and an earned Doctor of Ministry degree from United Theological Seminary\, Dayton\, Ohio\, as a Dr. Samuel D. Proctor Fellow. He is also the recipient of various honorary doctoral degrees. \nFrom an array of community groups\, non-profit agencies and governmental associations\, Dr. Hilliard has received numerous awards and citations for his efforts inside the church and beyond\, including his role in the ongoing renewal of downtown Perth Amboy. A few of those honors include; the Distinguished Alumnus of the Year Award from Princeton Theological Seminary\, Princeton\, NJ (1995) and The American Baptist Church\, USA Evangelism Award (1996). \nBishop Hilliard was also inducted into the Martin Luther King\, Jr. Board of Preachers at Morehouse College\, Atlanta\, GA. (1995)\, and received the Perth Amboy Chamber of Commerce Executive of the Year Award (1994)\, the Drew University Martin Luther King\, Jr. Humanitarian Award (1994) and the Distinguished Alumni of the Year\, Eastern University (2006). In 2008\, The New York Council of Churches presented Dr. Hilliard with the prestigious\, Clergy of the Year Award. He is a past board member of The Joint College of African-American Pentecostal Bishops\, and is a lifetime member of the NAACP. He has also received the “Humanitarian Award” from the National Conference for Community and Justice; and has also served as a commissioner for the Perth Amboy Redevelopment Authority. \nAs the son of the late Alease Elizabeth Crawford Hilliard-Chapman (December 28\, 1933 – August 26\, 2013) and the late Donald Hilliard\, Sr. (April 25\, 1930 – October 13\, 1983)\, Hilliard credits his parents for providing a stable and loving home where education and hard work were emphasized. On February 28\, 2014\, he launched the Donald and Alease Hilliard Chapman Foundation in honor of his parent’s legacy. \n“What you see over the last 35 years has been a divine leap of faith\,” said Hilliard\, who partners in ministry with his wife\, the Reverend Phyllis Thompson-Hilliard\, BA\, MA. They are the proud parents of three amazing daughters\, all whom have earned under graduate and graduate degrees\, a son-in-love\, and their one and only grandson\, Joseph Donald. \nBishop Hilliard is a servant of God who continues to say “Yes” to the Lord’s call on his life and by doing so has positively affected the lives of thousands with his gift to turn a glimmer of hope into opportunity. \n\n\nBishop Hilliard is now retired as the Presiding Bishop of the Covenant Ecumenical Fellowship and Cathedral Assemblies (CEFCA) and now serves as Bishop Emeritus\, having turned the reigns of CEFCA (now CFA) under the hand of Bishop Hollister Curtis Douglas in June 2018.  As Bishop Emeritus of the Reformation\, Bishop still serves as Retired Presiding Bishop at Large.
URL:https://www.campolocenter.org/event/campolo-fellows-lecture-series-chapel-with-eastern-alum-dr-bishop-donald-hilliard-jr/
CATEGORIES:Campolo Center Events,Campolo Fellows Speaker Series
ATTACH;FMTTYPE=image/png:https://www.campolocenter.org/wp-content/uploads/2020/09/Hillliard-feature-Graphic-1.png
ORGANIZER;CN="Campolo Center for Ministry":MAILTO:campolocenter@eastern.edu
END:VEVENT
BEGIN:VEVENT
DTSTART;TZID=America/New_York:20200921T100000
DTEND;TZID=America/New_York:20200921T110000
DTSTAMP:20260419T173134
CREATED:20200911T174029Z
LAST-MODIFIED:20200917T142953Z
UID:3206-1600682400-1600686000@www.campolocenter.org
SUMMARY:Campolo Scholars Fellowship with Rev. Dr. Bishop Donald Hilliard Jr.
DESCRIPTION:Rev. Dr. Bishop Donald Hilliard Jr. meets with the Campolo scholars for their weekly Monday Meetings. \nEastern University has a long history of developing Christian faith- and thought-leaders (e.g. Tony Campolo\, Brenda Salter McNeil\, Shane Claiborne\, Bryan Stevenson\, just to name a few) who are impacting the world with the Good News of the Whole Gospel.  When Tony talks about former students of his who spent their formative college years studying and preparing for ministry at Eastern University and are now setting an example of Christian leadership\, he always includes Dr. Bishop Don Hilliard at the top of the list. \nDr. Hilliard will flesh out some of the ideas he introduced at Eastern’s chapel service on September 9th (e.g. crossing over\, creativity\, changing the narrative) and other practical insights he’s learned for effective\, transformative ministry in the 21st Century and particularly the current American context of covid\, reanimated and emboldened racism and white supremacy\, growing economic divide and despair\, Biblical and theological illiteracy\, etc.   \n\nWhat is the role of the church in such a time\, under such circumstances?\nWhat are some successes that have been implemented at Cathedral International?\nWhat are some lessons learned from a failure\, set back or challenge?\nHow did his experience at Eastern shape and prepare him for prophetic leadership?\nDid studying sociology with Tony provide the insight and tools for analyzing and engaging culture more effectively for ministry?\nDoes he have courses/disciplines of study\, books and other resources to recommend to students preparing for ministry?\n\nBiography \nBishop Donald Hilliard\, Jr. serves as the senior pastor of Cathedral International—The Historic Second Baptist Church in Perth Amboy\, NJ. Dr. Hilliard’s willingness to “Say Yes!” to the Lord has fostered his ability to provide leadership in the exponential growth of the church over the last 35 years. Now\, “One Church in Four Locations\,” Cathedral International has expanded its ministry to serve the specific needs of four different locations in New Jersey: Cathedral International in Perth Amboy\, Cathedral International in Asbury Park\, Cathedral International in Plainfield\, and Iglesia Catedral in Perth Amboy. Cited by the American Baptist Churches (USA) as a model for church growth\, Cathedral International is a multifaceted\, relevant church that has grown exponentially throughout the years. Through the facilitation of the gospel via Live Stream\, Cathedral International now reaches thousands of homes across the globe. In the near future\, Cathedral International anticipates building a new campus in Cranbury\, NJ on 98 acres of land…
URL:https://www.campolocenter.org/event/rev-dr-bishop-donald-hilliard-jr/
CATEGORIES:Campolo Center Events
ATTACH;FMTTYPE=image/jpeg:https://www.campolocenter.org/wp-content/uploads/2020/09/340033_gfXzHXnd-2-e1599846507770.jpg
END:VEVENT
BEGIN:VEVENT
DTSTART;TZID=America/New_York:20200928T100000
DTEND;TZID=America/New_York:20200928T110000
DTSTAMP:20260419T173134
CREATED:20200915T162351Z
LAST-MODIFIED:20200924T205641Z
UID:3231-1601287200-1601290800@www.campolocenter.org
SUMMARY:Campolo Scholars Fellowship with Jon and Michelle Galdames-Henry
DESCRIPTION:CCM alums\, Jon and Michelle Galdames-Henry join the Campolo scholars for their weekly Monday Meetings. \nBiography\n \nAfter graduating in May 2019 and marrying in June\, Jon and Michelle Galdames-Henry moved to Northern Virginia to begin ministering at Abiding Presence Lutheran Church (ELCA) in Burke\, VA. Michelle serves as the Children and Family Minister and Jon as the Youth and Family Minister. They love the beautiful community of people they serve – who have warmly embraced them – and are thankful for the incredible blessing of ministering together. Thanks to the support of donors like you\, we can offer generous scholarships for students dedicated to serve in ministry like Jon and Michelle and to help them graduate with little or no debt. This summer\, during a virtual Campolo Scholars reunion event\, Jon shared about the education and training they each received from the Campolo Scholars program at Eastern University. He felt that they had been prepared well for ministry\, and for its challenges – such as Covid-19. Michelle was excited to announce that she’s begun the candidacy to be ordained as a deacon in the ELCA and will begin seminary in January 2021. We look forward to Jon and Michelle leading one of our weekly Campolo Scholar Fellowship meetings this semester and sharing the lessons they’ve learned from doing life and ministry together. \nTopic \n“What Ministry Is Not: Figuring Out What Ministry Actually Looks Like and How to Prepare.”\nWe’ll be using Brene Brown’s “BRAVING” acronym for discussion\, so students should look up what Brene says it stands for and think about how it might tie into everyday ministry. Also\, they should come ready with their wonderings about day-to-day vocational ministry (dealing with volunteers\, budgets\, relationship building\, time management etc).
URL:https://www.campolocenter.org/event/monday-meeting-with-jon-and-michelle-galdames-henry/
CATEGORIES:Campolo Center Events
ATTACH;FMTTYPE=image/jpeg:https://www.campolocenter.org/wp-content/uploads/2020/09/Jon-and-Michelle-Galdames-H.jpg
END:VEVENT
END:VCALENDAR